BEGIN:VCALENDAR
VERSION:2.0
PRODID:icalendar-ruby
CALSCALE:GREGORIAN
METHOD:PUBLISH
BEGIN:VEVENT
DTSTAMP:20260422T154721Z
UID:59-430675@cflconline.org
DTSTART:20260510T144500Z
DTEND:20260510T152500Z
CLASS:PUBLIC
CREATED:20260417T165107
DESCRIPTION:
LAST-MODIFIED:20260417T165107
LOCATION:
SUMMARY:Muffins for Moms
URL;VALUE=URI:https://www.cflconline.org/events/muffins-for-moms/2026-05-10
END:VEVENT
END:VCALENDAR
