BEGIN:VCALENDAR
VERSION:2.0
PRODID:icalendar-ruby
CALSCALE:GREGORIAN
METHOD:PUBLISH
BEGIN:VEVENT
DTSTAMP:20260422T165456Z
UID:60-430680@cflconline.org
DTSTART:20260530T150000Z
DTEND:20260530T170000Z
CLASS:PUBLIC
CREATED:20260417T170019
DESCRIPTION:
LAST-MODIFIED:20260417T170019
LOCATION:
SUMMARY:Lexy Spilde shower
URL;VALUE=URI:https://www.cflconline.org/events/lexy-spilde-shower/2026-05-
 30
END:VEVENT
END:VCALENDAR
