BEGIN:VCALENDAR
VERSION:2.0
PRODID:icalendar-ruby
CALSCALE:GREGORIAN
METHOD:PUBLISH
BEGIN:VEVENT
DTSTAMP:20260422T165435Z
UID:61-430679@cflconline.org
DTSTART;VALUE=DATE:20260517
DTEND;VALUE=DATE:20260517
CLASS:PUBLIC
CREATED:20260417T165702
DESCRIPTION:
LAST-MODIFIED:20260417T165702
LOCATION:
SUMMARY:Last day of SSchool
URL;VALUE=URI:https://www.cflconline.org/events/last-day-of-sschool/2026-05
 -17
END:VEVENT
END:VCALENDAR
