BEGIN:VCALENDAR
VERSION:2.0
PRODID:icalendar-ruby
CALSCALE:GREGORIAN
METHOD:PUBLISH
BEGIN:VEVENT
DTSTAMP:20260422T153501Z
UID:57-367103@cflconline.org
DTSTART;VALUE=DATE:20260503
DTEND;VALUE=DATE:20260503
CLASS:PUBLIC
CREATED:20260320T165106
DESCRIPTION:
LAST-MODIFIED:20260320T165106
LOCATION:
SUMMARY:Confirmation Sunday
URL;VALUE=URI:https://www.cflconline.org/events/confirmation-sunday/2026-05
 -03
END:VEVENT
END:VCALENDAR
