BEGIN:VCALENDAR
VERSION:2.0
PRODID:icalendar-ruby
CALSCALE:GREGORIAN
METHOD:PUBLISH
BEGIN:VEVENT
DTSTAMP:20260422T154256Z
UID:58-367104@cflconline.org
DTSTART;VALUE=DATE:20260426
DTEND;VALUE=DATE:20260426
CLASS:PUBLIC
CREATED:20260320T165213
DESCRIPTION:
LAST-MODIFIED:20260320T165213
LOCATION:
SUMMARY:Church in Action
URL;VALUE=URI:https://www.cflconline.org/events/church-in-action/2026-04-26
END:VEVENT
END:VCALENDAR
